6.35000000
0.00000000
0.00000000
-6.35000000
374307.6750
6216599.8250
